BEGIN:VCALENDAR
PRODID:NingEventWidget-v1
VERSION:2.0
METHOD:PUBLISH
BEGIN:VTIMEZONE
TZID:Pacific/Midway
X-LIC-LOCATION:Pacific/Midway
BEGIN:STANDARD
TZOFFSETFROM:-1100
TZOFFSETTO:-1100
TZNAME:SST
DTSTART:19700101T000000
END:STANDARD
END:VTIMEZONE
BEGIN:VEVENT
UID:5385115:Event:114686
DTSTAMP:20260420T100651Z
SUMMARY:Boo(s)tCamp Open Science - KU Leuven 24 October
DESCRIPTION:Boost Your Research – Go Open!\nOpen Science, just anoth
 er buzz word to you? Most probably not. You do know about Open Access 
 (either through your funder or through your institution). And you sure
 ly have heard about Open Science (think the Human Genome Project, Digi
 tal Humanities, NASA Earth Exchange and many others). To introduce you
  to the concepts, jargon and benefits of 'Going Open', KU Leuven heral
 ds the 2014 edition of the International Open Access Week themed \"Gen
 eration Open\" with a Boo(s)tcamp Open Science on Friday 24 October, w
 ith the financial support of the EC.\n\nFor more information visit htt
 p://legacy.openaccessweek.org/events/boo-s-tcamp-open-science-ku-leuve
 n-24-october
DTSTART;TZID=Pacific/Midway:20141024T130000
DTEND;TZID=Pacific/Midway:20141024T170000
CATEGORIES:bootcamp, -, foster, "&", ku, leuven
LOCATION:Leuven, Belgium
WEBSITE:http://www.kuleuven.be/research/bootcamp/
URL:http://www.kuleuven.be/research/bootcamp/
CONTACT:+ 32 16 32 40 61
ORGANIZER;CN="H. Vanhaverbeke":http://legacy.openaccessweek.org/profil
 e/HVanhaverbeke
ATTACH;FMTTYPE="image/jpeg":
ATTENDEE;ROLE=REQ-PARTICIPANT;PARTSTAT=ACCEPTED;RSVP=TRUE;CN="BioMed C
 entral":http://legacy.openaccessweek.org/profile/biomedcentral
ATTENDEE;ROLE=REQ-PARTICIPANT;PARTSTAT=ACCEPTED;RSVP=TRUE;CN="H. Vanha
 verbeke":http://legacy.openaccessweek.org/profile/HVanhaverbeke
ATTENDEE;ROLE=REQ-PARTICIPANT;PARTSTAT=TENTATIVE;RSVP=TRUE;CN="Bram Lu
 yten":http://legacy.openaccessweek.org/profile/BramLuyten
END:VEVENT
END:VCALENDAR
