BEGIN:VCALENDAR
PRODID:NingEventWidget-v1
VERSION:2.0
METHOD:PUBLISH
BEGIN:VTIMEZONE
TZID:Pacific/Midway
X-LIC-LOCATION:Pacific/Midway
BEGIN:STANDARD
TZOFFSETFROM:-1100
TZOFFSETTO:-1100
TZNAME:SST
DTSTART:19700101T000000
END:STANDARD
END:VTIMEZONE
BEGIN:VEVENT
UID:5385115:Event:174664
DTSTAMP:20260424T155939Z
SUMMARY:Blick hinter die Kulissen des Rechenzentrums Technischen Unive
 rsität Hamburg
DESCRIPTION:Das Rechenzentrum der TU Hamburg organisiert einen gemeins
 amen Rundgang und gewährt somit Einblicke hinter die Kulissen.\nTreff
 punkt: \nGebäude E, Raum 2.033, (RZ Besprechungsraum)\n\nFor more in
 formation visit http://legacy.openaccessweek.org/events/blick-hinter-d
 ie-kulissen-des-rechenzentrums-tu-hamburg
DTSTART;TZID=Pacific/Midway:20181025T120000
DTEND;TZID=Pacific/Midway:20181025T140000
CATEGORIES:rundgang
LOCATION:2
WEBSITE:
URL:
CONTACT:
ORGANIZER:Rechenzentrum TU Hamburg (https://www.tuhh.de/rzt/startseite
 .html)
ATTACH;FMTTYPE="image/jpeg":
ATTENDEE;ROLE=REQ-PARTICIPANT;PARTSTAT=ACCEPTED;RSVP=TRUE;CN="Dr. Tina
  Ladwig":http://legacy.openaccessweek.org/profile/DrTinaLadwig
END:VEVENT
END:VCALENDAR
