BEGIN:VCALENDAR
PRODID:NingEventWidget-v1
VERSION:2.0
METHOD:PUBLISH
BEGIN:VTIMEZONE
TZID:Pacific/Midway
X-LIC-LOCATION:Pacific/Midway
BEGIN:STANDARD
TZOFFSETFROM:-1100
TZOFFSETTO:-1100
TZNAME:SST
DTSTART:19700101T000000
END:STANDARD
END:VTIMEZONE
BEGIN:VEVENT
UID:5385115:Event:174599
DTSTAMP:20260422T110751Z
SUMMARY:Blick hinter die Kulissen der Bibliothek an der Technischen Un
 iversität Hamburg
DESCRIPTION:Die Bibliothek der Technischen Universität Hamburg gewäh
 rt einen Blick hinter die Kulissen.\n\n\nFor more information visit ht
 tp://legacy.openaccessweek.org/events/blick-hinter-die-kulissen-der-bi
 bliothek-an-der-tu-hamburg
DTSTART;TZID=Pacific/Midway:20181022T140000
DTEND;TZID=Pacific/Midway:20181022T143000
CATEGORIES:präsentation
LOCATION:Germany
WEBSITE:https://www.google.com/maps/place/Universit&amp;auml;tsbibliot
 hek+der+TUHH/@53.4609802,9.9670773,17z/data=!3m1!4b1!4m5!3m4!1s0x47b19
 1ad6eda8253:0x9c8cb7f919b800ee!8m2!3d53.460977!4d9.969266
URL:https://www.google.com/maps/place/Universit&amp;auml;tsbibliothek+
 der+TUHH/@53.4609802,9.9670773,17z/data=!3m1!4b1!4m5!3m4!1s0x47b191ad6
 eda8253:0x9c8cb7f919b800ee!8m2!3d53.460977!4d9.969266
CONTACT:
ORGANIZER:TUB TUHH (https://www.tub.tuhh.de)
ATTACH;FMTTYPE="image/jpeg":
ATTENDEE;ROLE=REQ-PARTICIPANT;PARTSTAT=ACCEPTED;RSVP=TRUE;CN="Dr. Tina
  Ladwig":http://legacy.openaccessweek.org/profile/DrTinaLadwig
END:VEVENT
END:VCALENDAR
