BEGIN:VCALENDAR
PRODID:NingEventWidget-v1
VERSION:2.0
METHOD:PUBLISH
BEGIN:VTIMEZONE
TZID:Pacific/Midway
X-LIC-LOCATION:Pacific/Midway
BEGIN:STANDARD
TZOFFSETFROM:-1100
TZOFFSETTO:-1100
TZNAME:SST
DTSTART:19700101T000000
END:STANDARD
END:VTIMEZONE
BEGIN:VEVENT
UID:5385115:Event:101651
DTSTAMP:20260422T212442Z
SUMMARY:Bibliosaúde: 5 anos de actividade
DESCRIPTION:Bibliosaúde, la Biblioteca Virtual del Sistema Público d
 e Salud de Galicia, cumple cinco años de su puesta en funcionamiento 
 y para celebrarlo organizamos una jornada donde se dará repaso a este
  lustro de actividad, además contaremos con la intervención de profe
 sionales de otros ámbitos que nos hablarán de temas relacionados con
  el Acceso abierto y Bibliometría, proyectos que Bibliosaúde está d
 esarrollando:\n\nBibliometría y evaluación: diagnóstico, tratamient
 o y contraindicaciones.  Evaristo Jiménez Contreras (Universidad de 
 Granada)\nEl acceso abierto a la ciencia y los repositorios de informa
 ción científica. Jordi Serrano Muñoz (Universitat Politécnica de C
 atalunya)\n\n \nSe pueden ver los  vídeos de la ponencia de Jordi S
 errano: “El acceso abierto a la ciencia y los repositorios de infor
 mación científica”\ny de Evaristo Jiménez Contreras : “Bibliom
 etría y evaluación: diagnóstico, tratamiento y contraindicaciones
 \n \n\n \n\n\nFor more information visit http://legacy.openaccesswe
 ek.org/events/bibliosa-de-5-anos-de-actividade
DTSTART;TZID=Pacific/Midway:20131025T100000
DTEND;TZID=Pacific/Midway:20131025T140000
CATEGORIES:conferencia, jornada
LOCATION:FEGAS. Escola Galega de Administración Sanitaria
WEBSITE:http://www.sergas.es/MostrarContidos_N3_T01.aspx?IdPaxina=5022
 8
URL:http://www.sergas.es/MostrarContidos_N3_T01.aspx?IdPaxina=50228
CONTACT:
ORGANIZER:Bibliosaúde
ATTACH;FMTTYPE="image/jpeg":http://storage.ning.com/topology/rest/1.0/
 file/get/3057527481?profile=original
ATTENDEE;ROLE=REQ-PARTICIPANT;PARTSTAT=ACCEPTED;RSVP=TRUE;CN="Carmen R
 odríguez-Otero":http://legacy.openaccessweek.org/profile/CarmenRodrig
 uezOtero
ATTENDEE;ROLE=REQ-PARTICIPANT;PARTSTAT=ACCEPTED;RSVP=TRUE;CN="Jordi Se
 rrano":http://legacy.openaccessweek.org/profile/JordiSerrano
END:VEVENT
END:VCALENDAR
