BEGIN:VCALENDAR
PRODID:NingEventWidget-v1
VERSION:2.0
METHOD:PUBLISH
BEGIN:VTIMEZONE
TZID:Pacific/Midway
X-LIC-LOCATION:Pacific/Midway
BEGIN:STANDARD
TZOFFSETFROM:-1100
TZOFFSETTO:-1100
TZNAME:SST
DTSTART:19700101T000000
END:STANDARD
END:VTIMEZONE
BEGIN:VEVENT
UID:5385115:Event:161462
DTSTAMP:20260423T061411Z
SUMMARY:Bianca Amaro: ProtecciÃ³n de derechos de autor y uso de licenc
 ias Creative Commons
DESCRIPTION:En el marco de la dÃ©cima semana internacional de Acceso A
 bierto la UNAM ofrece un amplio programa de actividades para promover 
 los beneficios del Acceso Abierto en particular, y de la cultura abier
 ta en lo general.\nComo parte de dicho programa, la DGTIC-UNAM, ofrece
  un ciclo de video-conferencias denominado: UNAM UNLOCKED, sobre temas
  vinculados con el acceso abierto y la ciencia abierta.\nLas video-con
 ferencias serÃ¡n impartidas por reconocidos expertos internacionales:Â
  LluÃ­s AngladaÂ del CSCU-CataluÃ±a,Â Patricia MuÃ±oz Palmade LA Refer
 encia,Â Antonio SÃ¡nchez PereyraÂ de Scielo-MÃ©xico,Â Bianca AmaroÂ de
 l IBICT, Brasil y Adolfo RodrÃ­guez Gallardo investigador emÃ©rito del
  IIBI-UNAM.Â \nLiberaremos una conferencia al dÃ­a, durante la OAWeek2
 017 desde las pÃ¡gina de la UNAM en LÃ­nea. Los interesados podrÃ¡n co
 nversar con los ponentes a travÃ©s las etiquetas: Â #OAW2017 y #OpenAc
 cessUNAMÂ \nEvento coordinado por: Marcela PeÃ±aloza yÂ Rafael FernÃ¡n
 dez FloresÂ yÂ Rosario Rogel.\n\nFor more information visit http://leg
 acy.openaccessweek.org/events/bianca-amaro-protecci-n-de-derechos-de-a
 utor-y-uso-de-licencias
DTSTART;TZID=Pacific/Midway:20171026T110000
DTEND;TZID=Pacific/Midway:20171026T120000
CATEGORIES:video, conferencia
LOCATION:Mexico
WEBSITE:http://www.unamenlinea.unam.mx/eventos/open_access_week_2017-B
 iancaAmaro
URL:http://www.unamenlinea.unam.mx/eventos/open_access_week_2017-Bianc
 aAmaro
CONTACT:
ORGANIZER;CN="Toda la UNAM en LÃ­nea":http://legacy.openaccessweek.org
 /profile/TodalaUNAMenLinea
ATTACH;FMTTYPE="image/jpeg":http://storage.ning.com/topology/rest/1.0/
 file/get/3057596216?profile=original
ATTENDEE;ROLE=REQ-PARTICIPANT;PARTSTAT=ACCEPTED;RSVP=TRUE;CN="patricia
  yazmin mayoral loera":http://legacy.openaccessweek.org/profile/patric
 iayazminmayoralloera
ATTENDEE;ROLE=REQ-PARTICIPANT;PARTSTAT=ACCEPTED;RSVP=TRUE;CN="EcoSylla
 ba LatinoamÃ©rica":http://legacy.openaccessweek.org/profile/ecosyllaba
ATTENDEE;ROLE=REQ-PARTICIPANT;PARTSTAT=ACCEPTED;RSVP=TRUE;CN="Toda la 
 UNAM en LÃ­nea":http://legacy.openaccessweek.org/profile/TodalaUNAMenL
 inea
ATTENDEE;ROLE=REQ-PARTICIPANT;PARTSTAT=ACCEPTED;RSVP=TRUE;CN="Rosario 
 Rogel-Salazar":http://legacy.openaccessweek.org/profile/RosarioRogelSa
 lazar
END:VEVENT
END:VCALENDAR
