BEGIN:VCALENDAR
PRODID:NingEventWidget-v1
VERSION:2.0
METHOD:PUBLISH
BEGIN:VTIMEZONE
TZID:Pacific/Midway
X-LIC-LOCATION:Pacific/Midway
BEGIN:STANDARD
TZOFFSETFROM:-1100
TZOFFSETTO:-1100
TZNAME:SST
DTSTART:19700101T000000
END:STANDARD
END:VTIMEZONE
BEGIN:VEVENT
UID:5385115:Event:164568
DTSTAMP:20260423T172448Z
SUMMARY:Becoming an Open Researcher
DESCRIPTION:Want to increase the impact and reach of your research? No
 t sure how to make your publications more open and accessible? Does op
 en research goes beyond publications?\nDr Dawn Duke will discuss the i
 mportance of web profiles, both early career and more established rese
 archers while Dr Christian Gilliam will dispel the myths about making 
 your theses open access.\nIn addition, you will get the opportunity to
  get some insights into the world of open access and avoid predators, 
 and how open data has an impact beyond publications, with Dr Christine
  Daoutis, Dr Montserrat Rodriguez-Marquez and Dr Alice Motes.\n\nFor m
 ore information visit http://legacy.openaccessweek.org/events/becoming
 -an-open-researcher
DTSTART;TZID=Pacific/Midway:20171025T140000
DTEND;TZID=Pacific/Midway:20171025T150000
CATEGORIES:seminar
LOCATION:United Kingdom
WEBSITE:
URL:
CONTACT:
ORGANIZER:Open Research team, University of Surrey
ATTACH;FMTTYPE="image/jpeg":
ATTENDEE;ROLE=REQ-PARTICIPANT;PARTSTAT=ACCEPTED;RSVP=TRUE;CN="Montserr
 at Rodriguez-Marquez":http://legacy.openaccessweek.org/profile/Montser
 ratRodriguezMarquez
END:VEVENT
END:VCALENDAR
