BEGIN:VCALENDAR
PRODID:NingEventWidget-v1
VERSION:2.0
METHOD:PUBLISH
BEGIN:VTIMEZONE
TZID:Pacific/Midway
X-LIC-LOCATION:Pacific/Midway
BEGIN:STANDARD
TZOFFSETFROM:-1100
TZOFFSETTO:-1100
TZNAME:SST
DTSTART:19700101T000000
END:STANDARD
END:VTIMEZONE
BEGIN:VEVENT
UID:5385115:Event:159923
DTSTAMP:20260419T200322Z
SUMMARY:Be a Hero -- Open Access Week at Fresno State
DESCRIPTION:From 11:00 am - 2:00 pm on October 23 to October 27  the
  Center for Faculty Excellence in the Henry Madden Library will be ope
 n to the Fresno State community to drop by and talk, share, exchange i
 deas about \"open access\" with a short presentation from 12-1pm daily
 .  \n \nLight refreshments provided and daily drawings for attendee
 s.\nMonday -- HERO/Intellus\nThe bookstore will present on HERO (the t
 extbook adoption) and faculty can get help with their adoption for nex
 t semester.  Plus Intellus will be in attendance to assist faculty in
  find Open Educational Resources (OER) using Intellus. \nTuesday -- S
 tudent Voice\nA student panel will share their experiences regarding t
 he high cost of textbooks and learning materials as well as their use 
 of OER or lower-cost materials in the classrooms.\nWednesday -- Open A
 ccess & the Library\nLibrarians Raymond Pun and Matthew Doyle will sha
 re their expertise regarding scholarly communication -- open access jo
 urnals, predatory journals, licensing, etc.\nThursday --  Faculty Voi
 ce\nA faculty panel will share their experience of using OER or low-co
 st materials in their courses.\nFriday -- AL$/OER Adoption Celebration
 \nWe will be honoring the faculty who have adopted OER or lower-cost m
 aterials in their courses during the 206-17 academic year.\n \n\nFor 
 more information visit http://legacy.openaccessweek.org/events/be-a-he
 ro-open-access-week-at-fresno-state
DTSTART;TZID=Pacific/Midway:20171023T110000
DTEND;TZID=Pacific/Midway:20171023T140000
CATEGORIES:workshops, "information sessions"
LOCATION:United States of America
WEBSITE:
URL:
CONTACT:5592783037
ORGANIZER:Vang Vang and the Center for Faculty Excellence
ATTACH;FMTTYPE="image/jpeg":
ATTENDEE;ROLE=REQ-PARTICIPANT;PARTSTAT=ACCEPTED;RSVP=TRUE;CN="Vang Van
 g":http://legacy.openaccessweek.org/profile/VangVang
END:VEVENT
END:VCALENDAR
