BEGIN:VCALENDAR
PRODID:NingEventWidget-v1
VERSION:2.0
METHOD:PUBLISH
BEGIN:VTIMEZONE
TZID:Pacific/Midway
X-LIC-LOCATION:Pacific/Midway
BEGIN:STANDARD
TZOFFSETFROM:-1100
TZOFFSETTO:-1100
TZNAME:SST
DTSTART:19700101T000000
END:STANDARD
END:VTIMEZONE
BEGIN:VEVENT
UID:5385115:Event:148985
DTSTAMP:20260425T032119Z
SUMMARY:Basic OA, basic English
DESCRIPTION:Come and familiarize yourself with the English terminology
  of all things OA.\n\nFor more information visit http://legacy.openacc
 essweek.org/events/basic-oa-basic-english
DTSTART;TZID=Pacific/Midway:20161024T150000
DTEND;TZID=Pacific/Midway:20161024T160000
CATEGORIES:language, class
LOCATION:4
WEBSITE:http://www.ek.szte.hu
URL:http://www.ek.szte.hu
CONTACT:
ORGANIZER:USZ Klebelsberg Library
ATTACH;FMTTYPE="image/jpeg":
ATTENDEE;ROLE=REQ-PARTICIPANT;PARTSTAT=ACCEPTED;RSVP=TRUE;CN="szabó e
 szter":http://legacy.openaccessweek.org/profile/szaboeszter
END:VEVENT
END:VCALENDAR
