BEGIN:VCALENDAR
PRODID:NingEventWidget-v1
VERSION:2.0
METHOD:PUBLISH
BEGIN:VTIMEZONE
TZID:Pacific/Midway
X-LIC-LOCATION:Pacific/Midway
BEGIN:STANDARD
TZOFFSETFROM:-1100
TZOFFSETTO:-1100
TZNAME:SST
DTSTART:19700101T000000
END:STANDARD
END:VTIMEZONE
BEGIN:VEVENT
UID:5385115:Event:8236
DTSTAMP:20260419T051516Z
SUMMARY:Awareness Poster
DESCRIPTION:An awareness poster will be displayed in all the faculties
  of University of Peradeniya, Sri Lanka\n\nFor more information visit 
 http://legacy.openaccessweek.org/events/awareness-poster
DTSTART;TZID=Pacific/Midway:20101014T180000
DTEND;TZID=Pacific/Midway:20101014T190000
CATEGORIES:poster
LOCATION:The Fillmore
WEBSITE:
URL:
CONTACT:
ORGANIZER;CN="Harshani Neelanthi Kumari Dissan":http://legacy.openacce
 ssweek.org/profile/HarshaniNeelanthiKumariDissan
ATTACH;FMTTYPE="image/jpeg":http://storage.ning.com/topology/rest/1.0/
 file/get/2890165194?profile=original
ATTENDEE;ROLE=REQ-PARTICIPANT;PARTSTAT=ACCEPTED;RSVP=TRUE;CN="Harshani
  Neelanthi Kumari Dissan":http://legacy.openaccessweek.org/profile/Har
 shaniNeelanthiKumariDissan
END:VEVENT
END:VCALENDAR
