BEGIN:VCALENDAR
PRODID:NingEventWidget-v1
VERSION:2.0
METHOD:PUBLISH
BEGIN:VTIMEZONE
TZID:Pacific/Midway
X-LIC-LOCATION:Pacific/Midway
BEGIN:STANDARD
TZOFFSETFROM:-1100
TZOFFSETTO:-1100
TZNAME:SST
DTSTART:19700101T000000
END:STANDARD
END:VTIMEZONE
BEGIN:VEVENT
UID:5385115:Event:161055
DTSTAMP:20260423T063708Z
SUMMARY:Ausstellungen zur Open Access Week
DESCRIPTION:Während der Internationalen Open-Access-Week vom 23. bis 
 zum 29. Oktober bietet eine Posterausstellung im Lernraum der Biblioth
 ek einen Überblick über das Thema Open Access. \nIm Erdgeschoß der 
 Bibliothek präsentieren wir in einer kleinen Buchausstellung aktuelle
  Literatur zu Open Access.\n\nFor more information visit http://legacy
 .openaccessweek.org/events/ausstellungen-zur-open-access-week
DTSTART;TZID=Pacific/Midway:20171023T000000
DTEND;TZID=Pacific/Midway:20171029T235900
CATEGORIES:exhibition, poster, session
LOCATION:Germany
WEBSITE:https://goo.gl/maps/5hRwAzcsSuF2
URL:https://goo.gl/maps/5hRwAzcsSuF2
CONTACT:06021/4206-619
ORGANIZER:Hochschulbibliothek Aschaffenburg
ATTACH;FMTTYPE="image/jpeg":http://storage.ning.com/topology/rest/1.0/
 file/get/3057594073?profile=original
ATTENDEE;ROLE=REQ-PARTICIPANT;PARTSTAT=ACCEPTED;RSVP=TRUE;CN="TH-Bibli
 othek Aschaffenburg":http://legacy.openaccessweek.org/profile/Hochschu
 lbibliothekAschaffenbur
END:VEVENT
END:VCALENDAR
