BEGIN:VCALENDAR
PRODID:NingEventWidget-v1
VERSION:2.0
METHOD:PUBLISH
BEGIN:VTIMEZONE
TZID:Pacific/Midway
X-LIC-LOCATION:Pacific/Midway
BEGIN:STANDARD
TZOFFSETFROM:-1100
TZOFFSETTO:-1100
TZNAME:SST
DTSTART:19700101T000000
END:STANDARD
END:VTIMEZONE
BEGIN:VEVENT
UID:5385115:Event:48021
DTSTAMP:20260422T184457Z
SUMMARY:Athabasca University Open Access Week, October 24-30, 2011.
DESCRIPTION:To celebrate the appointment of Dr. Rory McGreal as the UN
 ESCO/Commonwealth of Learning Chair in Open Educational Resources (OER
 ), Athabasca University is presenting a series of five noon hour webca
 sts exploring major issues and opportunities presented by OER. Each se
 ssion will feature an internationally known promoter and developer of 
 open educational resources, research, or ideas.\nThese presentations a
 re among many events taking place internationally to highlight Open Ac
 cess Week.\n\nFor more information visit http://legacy.openaccessweek.
 org/events/athabasca-university-open-access-week-october-24-30-2011
DTSTART;TZID=Pacific/Midway:20111024T120000
DTEND;TZID=Pacific/Midway:20111030T120000
CATEGORIES:webcasts
LOCATION:Athabasca University
WEBSITE:http://openaccess.athabascau.ca/
URL:http://openaccess.athabascau.ca/
CONTACT:(780) 675-6486
ORGANIZER:tonyt@athabascau.ca
ATTACH;FMTTYPE="image/jpeg":http://storage.ning.com/topology/rest/1.0/
 file/get/3057476316?profile=original
ATTENDEE;ROLE=REQ-PARTICIPANT;PARTSTAT=ACCEPTED;RSVP=TRUE;CN="Hemlata 
 Chari":http://legacy.openaccessweek.org/profile/HemlataChari
ATTENDEE;ROLE=REQ-PARTICIPANT;PARTSTAT=ACCEPTED;RSVP=TRUE;CN="Tony Tin
 ":http://legacy.openaccessweek.org/profile/TonyTin
END:VEVENT
END:VCALENDAR
