BEGIN:VCALENDAR
PRODID:NingEventWidget-v1
VERSION:2.0
METHOD:PUBLISH
BEGIN:VTIMEZONE
TZID:Pacific/Midway
X-LIC-LOCATION:Pacific/Midway
BEGIN:STANDARD
TZOFFSETFROM:-1100
TZOFFSETTO:-1100
TZNAME:SST
DTSTART:19700101T000000
END:STANDARD
END:VTIMEZONE
BEGIN:VEVENT
UID:5385115:Event:291865
DTSTAMP:20260422T165952Z
SUMMARY:Atelier : Le partage des donnÃ©es de recherche au SÃ©nÃ©gal : 
 aspects juridiques et Ã©thiques
DESCRIPTION:ObjectifsÂ :\nLe projet Open OPSE vise Ã  engagerÂ l'Obser
 vatoire Population SantÃ© Environnement du SÃ©nÃ©gal (OPSE) dans une d
 Ã©marche de science ouverte et de partage des connaissances capitalisÃ
 ©es depuis plus de 50 ans. Dans ce cadre, lâ€™atelier sur les aspects 
 juridiques et Ã©thiques du partage de donnÃ©es au SÃ©nÃ©gal permettra 
 aux participants de comprendre le cadre juridique national et le cadre
  Ã©thique, d'Ã©changer sur les possibilitÃ©s de partage de diffÃ©rents
  types de donnÃ©es et de rÃ©flÃ©chir collectivementÂ au contenu dâ€™un
 e charte encadrant les droits et devoirs des producteurs et des utilis
 ateurs des donnÃ©es partagÃ©es.\nProgramme\nÂ \nModÃ©rationÂ : ValÃ©ri
 e Delaunay (IRD) et Pascal Aventurier (IRD)\nÂ 8h30-9h - Accueil\n9h e
 t 9h30 - Introduction et sÃ©ance de prÃ©sentation\nÂ 9h30 â€“ 11h00 Pr
 Ã©sentation du cadre juridique\nLes droits de propriÃ©tÃ© intellectuel
 le sur les donnÃ©es de recherche: Que dit la lÃ©gislation sÃ©nÃ©galais
 e ? par Fatou Fofana (Institut SÃ©nÃ©galais de Recherches Agricoles)\n
 Â La prise en charge des donnÃ©es personnelles dans la recherche par M
 amoudou Niane et Mohamed Diop (Commission des DonnÃ©es Personnelles)\n
 Les contraintes sur la mise Ã  disposition des fichiers de donnÃ©es st
 atistiques par El Hadji Malick GUEYE et Abdoulaye BA (Agence Nationale
  de la Statistique et de la DÃ©mographie).\nÂ 11h- 11h30 - PauseÂ \nÂ 
 11h30-12h30 - travail en groupe sur des cas dâ€™usages de jeu de donnÃ
 ©es\nÂ 12h30-14h - Pause repas\nÂ AprÃ¨s-midi\nÂ 14 h - 14 h 40 - Ethi
 que de la recherche et gestion des banques de donnÃ©es et du matÃ©riel
  biologique par Samba Cor Sarr (ComitÃ© National d'Ethique pour la Rec
 herche en SantÃ©)\nÂ 14h40 -16:00 - Ecrire des rÃ¨gles de partage de d
 onnÃ©es : quand, quoi, comment ? par Laurence Fleury (IRD)\nÂ 16:00-16
 h15 -Â  Pause\nÂ 16h15-16h45 - SynthÃ¨se de la journÃ©e par Mouhamadou
  Lo\n\nFor more information visit http://legacy.openaccessweek.org/eve
 nts/atelier-le-partage-des-donn-es-de-recherche-au-s-n-gal-aspects
DTSTART;TZID=Pacific/Midway:20211025T000000
DTEND;TZID=Pacific/Midway:20211025T235900
CATEGORIES:workshop
LOCATION:Senegal
WEBSITE:https://lped.info/wikiObsSN/?AteJur
URL:https://lped.info/wikiObsSN/?AteJur
CONTACT:
ORGANIZER:Pascal Aventurier; Laurence Fleury; ValÃ©rie Delaunay (IRD) 
 ; OPSE Consortium
ATTACH;FMTTYPE="image/jpeg":
ATTENDEE;ROLE=REQ-PARTICIPANT;PARTSTAT=ACCEPTED;RSVP=TRUE;CN="Pascal M
 ichel":http://legacy.openaccessweek.org/profile/PascalMichel
END:VEVENT
END:VCALENDAR
