BEGIN:VCALENDAR
PRODID:NingEventWidget-v1
VERSION:2.0
METHOD:PUBLISH
BEGIN:VTIMEZONE
TZID:Pacific/Midway
X-LIC-LOCATION:Pacific/Midway
BEGIN:STANDARD
TZOFFSETFROM:-1100
TZOFFSETTO:-1100
TZNAME:SST
DTSTART:19700101T000000
END:STANDARD
END:VTIMEZONE
BEGIN:VEVENT
UID:5385115:Event:49524
DTSTAMP:20260423T014924Z
SUMMARY:An Introduction to Open Access Publishing
DESCRIPTION:Tuesday 25th October\n11.00 – 12.30pm, Open Learning Spa
 ce (ground floor, Library)\nA seminar for researchers in the Social Sc
 iences, Humanities and Sciences\nThis session will provide an introduc
 tion to Open Access publishing from both a researcher and publisher pe
 rspective.\n In this session we will explore:\n\nthe rationale for Op
 en Access\nthe current state of the field\ntools that are available fo
 r those seeking to edit and establish new journals\nresearcher and pub
 lisher funding opportunities, particularly in light of author-pays mod
 els\n\nParticipants will leave with a solid understanding of Open Acce
 ss and important related areas, such as copyright, that will allow the
 m to accurately appraise the field and to make informed choices when p
 ublishing.\nSpeaker: Martin Eve (Doctoral researcher and founding edit
 or of the Open Access journals, Excursions and Orbit)\n\nFor more info
 rmation visit http://legacy.openaccessweek.org/events/an-introduction-
 to-open-access-publishing
DTSTART;TZID=Pacific/Midway:20111025T110000
DTEND;TZID=Pacific/Midway:20111025T123000
CATEGORIES:seminar
LOCATION:University of Sussex, Library
WEBSITE:http://www.sussex.ac.uk/library/staff/research/seminarsandeven
 ts/openaccessweek2011
URL:http://www.sussex.ac.uk/library/staff/research/seminarsandevents/o
 penaccessweek2011
CONTACT:
ORGANIZER;CN="Jane Harvell":http://legacy.openaccessweek.org/profile/J
 aneHarvell
ATTACH;FMTTYPE="image/jpeg":
ATTENDEE;ROLE=REQ-PARTICIPANT;PARTSTAT=ACCEPTED;RSVP=TRUE;CN="Jane Har
 vell":http://legacy.openaccessweek.org/profile/JaneHarvell
END:VEVENT
END:VCALENDAR
