BEGIN:VCALENDAR
PRODID:NingEventWidget-v1
VERSION:2.0
METHOD:PUBLISH
BEGIN:VTIMEZONE
TZID:Pacific/Midway
X-LIC-LOCATION:Pacific/Midway
BEGIN:STANDARD
TZOFFSETFROM:-1100
TZOFFSETTO:-1100
TZNAME:SST
DTSTART:19700101T000000
END:STANDARD
END:VTIMEZONE
BEGIN:VEVENT
UID:5385115:Event:206132
DTSTAMP:20260419T053014Z
SUMMARY:Altmetric tool for evaluating open science
DESCRIPTION:Speaker:\nOlshevska Olga, PhD, Associate Professor, Deputy
  Director of STL of Innovative Technologies, Altmetric Ambassador\n\nF
 or more information visit http://legacy.openaccessweek.org/events/altm
 etric-tool-for-evaluating-open-science
DTSTART;TZID=Pacific/Midway:20201022T143000
DTEND;TZID=Pacific/Midway:20201022T153000
CATEGORIES:webinar
LOCATION:Ukraine
WEBSITE:http://library.onaft.edu.ua
URL:http://library.onaft.edu.ua
CONTACT:
ORGANIZER:Scientific and Technical Library ONAFT
ATTACH;FMTTYPE="image/jpeg":
ATTENDEE;ROLE=REQ-PARTICIPANT;PARTSTAT=ACCEPTED;RSVP=TRUE;CN="Alfredo 
 Rivera":http://legacy.openaccessweek.org/profile/AlfredoRivera
ATTENDEE;ROLE=REQ-PARTICIPANT;PARTSTAT=ACCEPTED;RSVP=TRUE;CN="Olga Ols
 hevska":http://legacy.openaccessweek.org/profile/OlgaOlshevska
END:VEVENT
END:VCALENDAR
