BEGIN:VCALENDAR
PRODID:NingEventWidget-v1
VERSION:2.0
METHOD:PUBLISH
BEGIN:VTIMEZONE
TZID:Pacific/Midway
X-LIC-LOCATION:Pacific/Midway
BEGIN:STANDARD
TZOFFSETFROM:-1100
TZOFFSETTO:-1100
TZNAME:SST
DTSTART:19700101T000000
END:STANDARD
END:VTIMEZONE
BEGIN:VEVENT
UID:5385115:Event:75178
DTSTAMP:20260421T110515Z
SUMMARY:Acceso Abierto y Producción Científica - Jornada de difusió
 n en el marco de las actividades de la Universidad Nacional de Rosario
  en la Semana de Acceso Abierto
DESCRIPTION:Actualmente, la producción de conocimiento científico ti
 ene una visibilidad mayor a través de la Internet como lugar común 
 e inmediato de búsqueda y accesibilidad. Sin embargo, muchas veces el
  acceso a determinadas fuentes puede no ser libre. La idea de Acceso 
 Abierto (AA) supone una literatura digital, gratuita y disponible en 
 la red que garantiza una mayor exposición de distintos tipos de traba
 jos siendo además, un recurso facilitador de información y de colab
 oración con las bibliotecas tradicionales y virtuales. El propósito 
 de esta Jornada es poder introducirnos en la lógica del AA, sus utili
 dades y facilidades para docentes, alumnos e investigadores de nuestr
 a Universidad.\n\nFor more information visit http://legacy.openaccessw
 eek.org/events/acceso-abierto-y-producci-n-cient-fica-jornada-de-difus
 i-n-en-el
DTSTART;TZID=Pacific/Midway:20121023T100000
DTEND;TZID=Pacific/Midway:20121023T140000
CATEGORIES:jornadas, seminar, spanish
LOCATION:Facultad de Ciencia Política y Relaciones Internacionales
WEBSITE:http://www.fcpolit.unr.edu.ar/i-jornada-de-difusion-del-acceso
 -libre/
URL:http://www.fcpolit.unr.edu.ar/i-jornada-de-difusion-del-acceso-lib
 re/
CONTACT:
ORGANIZER:Secretaría de Investigación y Posgrado, Biblioteca Bibliot
 eca “Juan Carlos Puig”. Facultad de Ciencia Política y Relaciones
  Internacionales. Universidad Nacional de Rosario
ATTACH;FMTTYPE="image/jpeg":http://storage.ning.com/topology/rest/1.0/
 file/get/3057503323?profile=original
ATTENDEE;ROLE=REQ-PARTICIPANT;PARTSTAT=ACCEPTED;RSVP=TRUE;CN="Paola Ca
 rolina Bongiovani":http://legacy.openaccessweek.org/profile/PaolaCarol
 inaBongiovani
END:VEVENT
END:VCALENDAR
