BEGIN:VCALENDAR
PRODID:NingEventWidget-v1
VERSION:2.0
METHOD:PUBLISH
BEGIN:VTIMEZONE
TZID:Pacific/Midway
X-LIC-LOCATION:Pacific/Midway
BEGIN:STANDARD
TZOFFSETFROM:-1100
TZOFFSETTO:-1100
TZNAME:SST
DTSTART:19700101T000000
END:STANDARD
END:VTIMEZONE
BEGIN:VEVENT
UID:5385115:Event:132143
DTSTAMP:20260421T011918Z
SUMMARY:Acceso abierto y bienes comunes
DESCRIPTION:Medellín, Colombia, at the VII Conferencia Latinoamerican
 a y Caribeña de Ciencias Sociales\nEste año CLACSO organiza las acti
 vidades de la semana internacional del acceso abierto en el marco de l
 a VII Conferencia Latinoamericana y Caribeña de Ciencias Sociales (
 Medellín, Colombia, 9 al 13 de noviembre 2015) organizado por el Grup
 o de Trabajo CLACSO “Bienes Comunes: dimensiones, prácticas y persp
 ectivas en América Latina”.\nColoquio \"Bienes Comunes: Acceso abi
 erto, bienes naturales y democratización del conocimiento​\"\nMedel
 lín, miércoles 11 de noviembre, de 8 a 12,30 horas\nOrganización y 
 coordinación: Eduardo Aguado (UAEM), Elena Lazos Chavero (IIS-UNAM), 
 Dominique Babini (CLACSO)\nModeración:  Wilson López (Universidad 
  Javeriana)\n \nSesión de apertura:\nBhanu Neupane (UNESCO)\nCarlos
  Lugo Silva (Ministerio de Educación, Colombia)\n \nPanel 1. Bienes 
 comunes: acceso abierto y democratización del conocimiento. \nPaneli
 stas: Eduardo Aguado-López (UAEM, México), Alejandro Uribe Tirado (U
 niversidad de Antioquia, Colombia), Luis Reygadas (UAM, México), Esth
 er Juliana Vargas Arbeláez (Universidad Antioquia, Colombia), Fernand
 o Ariel López (CAICYT-CONICET, Argentina), Manuel Loyola (Universidad
  de Santiago de Chile).\n\n\nPanel 2: Bienes comunes: bienes naturales
  y democratización en su acceso.\n \nPanelistas: Cecilia Gárgano .
  CONICET [Argentina], Claudia Rivera Rosales . UNAM [México], Edith 
 Carolina Pineda Pinzón. PENSAR/PUJ [Colombia], Elena Lazos Chavero .
  IIS-UNAM [México].\n\n\n\n\n\n\n\n\n  \nTaller \"Bienes Comunes: A
 spectos teórico-metodológicos sobre el acceso abierto, bienes natura
 les y democratización del conocimiento​\"\nMedellín, martes 10 de 
 noviembre, de 8 a 17 horas\n \n1. Bienes naturales. Tierras, Bosques,
  Agua, Semillas, Recursos Genéticos – a cargo de la Dra. Elena Laz
 os Chavero (Instituto de Investigaciones Sociales IIS-UNAM, México)\n
  \n2. Acceso abierto y democratización del conocimiento – a cargo 
 del Dr. Eduardo Aguado López (UAEM, México)\n \n \n \nInscripció
 n:\nLas actividades de la Conferencia son de acceso libre y gratuito.
  En todos los casos se requiere inscripción previa online aquí.  
  El taller tiene cupos limitados y requiere inscripción previa online
  aquí, además de inscribirse en la Conferencia.\n \nURL general de 
 la Conferencia:  http://www.clacso.org.ar/conferencia2015\n\nFor more
  information visit http://legacy.openaccessweek.org/events/acceso-abie
 rto-y-bienes-comunes-1
DTSTART;TZID=Pacific/Midway:20151110T080000
DTEND;TZID=Pacific/Midway:20151111T123000
CATEGORIES:"colloquium and workshop"
LOCATION:Colombia
WEBSITE:http://www.clacso.org.ar/conferencia2015/conferencia.php
URL:http://www.clacso.org.ar/conferencia2015/conferencia.php
CONTACT:
ORGANIZER:Dominique Babini (CLACSO), Eduardo Aguado-López (UAEM, Méx
 ico), Elena Lazos (IIS-UNAM, México)
ATTACH;FMTTYPE="image/jpeg":http://storage.ning.com/topology/rest/1.0/
 file/get/3057558174?profile=original
ATTENDEE;ROLE=REQ-PARTICIPANT;PARTSTAT=ACCEPTED;RSVP=TRUE;CN="Dominiqu
 e Babini":http://legacy.openaccessweek.org/profile/DominiqueBabini
END:VEVENT
END:VCALENDAR
