BEGIN:VCALENDAR
PRODID:NingEventWidget-v1
VERSION:2.0
METHOD:PUBLISH
BEGIN:VTIMEZONE
TZID:Pacific/Midway
X-LIC-LOCATION:Pacific/Midway
BEGIN:STANDARD
TZOFFSETFROM:-1100
TZOFFSETTO:-1100
TZNAME:SST
DTSTART:19700101T000000
END:STANDARD
END:VTIMEZONE
BEGIN:VEVENT
UID:5385115:Event:139189
DTSTAMP:20260423T003326Z
SUMMARY:Acceso Abierto: investigar, publicar y compartir
DESCRIPTION:La FAU invita a investigadores, becarios, estudiantes deÂ 
 maestrÃ­a, doctorado, posdoctorado y a la comunidad en general, a la c
 harla \"Acceso Abierto: investigar, publicar y compartir\" que tendrÃ¡
  lugar en instalaciones del CAICYT-CONICET. El evento se realizarÃ¡ vÃ
 ­a streaming, y la FAU transmitirÃ¡ la jornada en vivo en el SalÃ³n de
  Actos Marcos Winograd, el jueves 22 de octubre a las 15:00.\n\nMÃ s i
 nformaciÃ³n, en el sitio web de la FAU-UNLP.\n\nFor more information v
 isit http://legacy.openaccessweek.org/events/acceso-abierto-investigar
 -publicar-y-compartir-2
DTSTART;TZID=Pacific/Midway:20151022T150000
DTEND;TZID=Pacific/Midway:20151022T173000
CATEGORIES:jornada, virtual
LOCATION:Argentina
WEBSITE:https://www.google.com.ar/maps/place/Calle+47+162,+La+Plata,+B
 uenos+Aires/@-34.902457,-57.941358,14z/data=!4m2!3m1!1s0x95a2e640c315a
 01b:0x4130a482ec48c2fc?hl=es-419
URL:https://www.google.com.ar/maps/place/Calle+47+162,+La+Plata,+Bueno
 s+Aires/@-34.902457,-57.941358,14z/data=!4m2!3m1!1s0x95a2e640c315a01b:
 0x4130a482ec48c2fc?hl=es-419
CONTACT:(+54 221) 4236587/90
ORGANIZER:Facultad de Arquitectura y Urbanismo. Universidad Nacional d
 e La Plata
ATTACH;FMTTYPE="image/jpeg":http://storage.ning.com/topology/rest/1.0/
 file/get/3057571098?profile=original
ATTENDEE;ROLE=REQ-PARTICIPANT;PARTSTAT=ACCEPTED;RSVP=TRUE;CN="Yanina G
 onzÃ¡lez TerÃ¡n":http://legacy.openaccessweek.org/profile/YaninaGonzal
 ezTeran
END:VEVENT
END:VCALENDAR
