BEGIN:VCALENDAR
PRODID:NingEventWidget-v1
VERSION:2.0
METHOD:PUBLISH
BEGIN:VTIMEZONE
TZID:Pacific/Midway
X-LIC-LOCATION:Pacific/Midway
BEGIN:STANDARD
TZOFFSETFROM:-1100
TZOFFSETTO:-1100
TZNAME:SST
DTSTART:19700101T000000
END:STANDARD
END:VTIMEZONE
BEGIN:VEVENT
UID:5385115:Event:100025
DTSTAMP:20260423T140607Z
SUMMARY:A Virtual Chat with Peter Suber
DESCRIPTION:Join your USFSP colleagues for a chat with Peter Suber, th
 e Director of the Harvard Office for Scholarly Communications and the 
 Harvard Open Access Project.  Dr. Suber is an international expert on
  open access and was the principal drafter of the Budapest Open Access
  Initiative.\n\nFor more information visit http://legacy.openaccesswee
 k.org/events/a-virtual-chat-with-peter-suber
DTSTART;TZID=Pacific/Midway:20131023T140000
DTEND;TZID=Pacific/Midway:20131023T150000
CATEGORIES:oa, week, event, 2013
LOCATION:Poynter Corner, Nelson Poynter Memorial Library, USFSP
WEBSITE:
URL:
CONTACT:
ORGANIZER;CN="Carol G. Hixson":http://legacy.openaccessweek.org/profil
 e/CarolGHixson
ATTACH;FMTTYPE="image/jpeg":http://storage.ning.com/topology/rest/1.0/
 file/get/3057523731?profile=original
ATTENDEE;ROLE=REQ-PARTICIPANT;PARTSTAT=ACCEPTED;RSVP=TRUE;CN="Carol G.
  Hixson":http://legacy.openaccessweek.org/profile/CarolGHixson
END:VEVENT
END:VCALENDAR
