BEGIN:VCALENDAR
PRODID:NingEventWidget-v1
VERSION:2.0
METHOD:PUBLISH
BEGIN:VTIMEZONE
TZID:Pacific/Midway
X-LIC-LOCATION:Pacific/Midway
BEGIN:STANDARD
TZOFFSETFROM:-1100
TZOFFSETTO:-1100
TZNAME:SST
DTSTART:19700101T000000
END:STANDARD
END:VTIMEZONE
BEGIN:VEVENT
UID:5385115:Event:53452
DTSTAMP:20260419T074839Z
SUMMARY:A Cienciometria e o Open Access.
DESCRIPTION:Instituto Politécnico de Bragança\n\nFor more informatio
 n visit http://legacy.openaccessweek.org/events/a-cienciometria-e-o-op
 en-access
DTSTART;TZID=Pacific/Midway:20111026T143000
DTEND;TZID=Pacific/Midway:20111026T173000
CATEGORIES:seminar
LOCATION:Instituto Politécnico de Bragança
WEBSITE:
URL:
CONTACT:http://www.acessolivre.pt/semana/?p=501
ORGANIZER;CN="Pedro Príncipe":http://legacy.openaccessweek.org/profil
 e/PedroPrincipe
ATTACH;FMTTYPE="image/jpeg":
ATTENDEE;ROLE=REQ-PARTICIPANT;PARTSTAT=ACCEPTED;RSVP=TRUE;CN="Pedro Pr
 íncipe":http://legacy.openaccessweek.org/profile/PedroPrincipe
END:VEVENT
END:VCALENDAR
