BEGIN:VCALENDAR
PRODID:NingEventWidget-v1
VERSION:2.0
METHOD:PUBLISH
BEGIN:VTIMEZONE
TZID:Pacific/Midway
X-LIC-LOCATION:Pacific/Midway
BEGIN:STANDARD
TZOFFSETFROM:-1100
TZOFFSETTO:-1100
TZNAME:SST
DTSTART:19700101T000000
END:STANDARD
END:VTIMEZONE
BEGIN:VEVENT
UID:5385115:Event:102571
DTSTAMP:20260425T172835Z
SUMMARY:3a. Jornada de Acceso Abierto en IFTS No.13
DESCRIPTION:El Acceso Abierto (Open Access) a la producciÃ³n cientÃ­fi
 co-tecnolÃ³gica es la disponibilidad libre en Internet de este tipo de
  material e implica que los usuarios pueden, en forma gratuita, leer, 
 descargar, copiar, distribuir, imprimir, buscar o enlazar los textos c
 ompletos de los artÃ­culos cientÃ­ficos, y usarlos con propÃ³sitos leg
 Ã­timos ligados a la investigaciÃ³n cientÃ­fica, a la educaciÃ³n o a l
 a gestiÃ³n de polÃ­ticas pÃºblicas, sin otras barreras econÃ³micas, le
 gales o tÃ©cnicas que las que suponga Internet en sÃ­ misma.En el marc
 o de la Semana Internacional del Acceso Abierto al conocimiento cientÃ
 ­fico, el miÃ©rcoles 23 de octubre de 2013 de 19 a 21 hs. se realizarÃ
 ¡ en IFTS No.13 la 3a. Jornada de Acceso Abierto, en la cual un destac
 ado panel de expertos desarrollarÃ¡ diversos aspectos de esta temÃ¡tic
 a.MÃ¡s detalles e inscripciÃ³n en:Â http://www.reunalia.com/3000287\n\
 nFor more information visit http://legacy.openaccessweek.org/events/3a
 -jornada-de-acceso-abierto-en-ifts-no-13
DTSTART;TZID=Pacific/Midway:20131023T070000
DTEND;TZID=Pacific/Midway:20131023T090000
CATEGORIES:jornada
LOCATION:IFTS NÂ° 13 (GCBA, Argentina)
WEBSITE:
URL:
CONTACT:
ORGANIZER:Carolina De Volder, Fernando Ariel LÃ³pez y Patricia Prada
ATTACH;FMTTYPE="image/jpeg":
ATTENDEE;ROLE=REQ-PARTICIPANT;PARTSTAT=ACCEPTED;RSVP=TRUE;CN="Carolina
  De Volder":http://legacy.openaccessweek.org/profile/CarolinaDeVolder
END:VEVENT
END:VCALENDAR
