BEGIN:VCALENDAR
PRODID:NingEventWidget-v1
VERSION:2.0
METHOD:PUBLISH
BEGIN:VTIMEZONE
TZID:Pacific/Midway
X-LIC-LOCATION:Pacific/Midway
BEGIN:STANDARD
TZOFFSETFROM:-1100
TZOFFSETTO:-1100
TZNAME:SST
DTSTART:19700101T000000
END:STANDARD
END:VTIMEZONE
BEGIN:VEVENT
UID:5385115:Event:51464
DTSTAMP:20260419T130434Z
SUMMARY:2011 Open Access Korea Conference
DESCRIPTION:The Open Access Conference aims to share and explore the s
 trategies, policies, implementation approaches, and other collaborativ
 e efforts for Open Access in Korea. BioMed Central will be exhibiting 
 at the conference, Wednesday 26 Oct from 13:00 - 18:00.\n \n\nFor mor
 e information visit http://legacy.openaccessweek.org/events/2011-open-
 access-korea-conference
DTSTART;TZID=Pacific/Midway:20111026T130000
DTEND;TZID=Pacific/Midway:20111026T180000
CATEGORIES:conference
LOCATION:COEX
WEBSITE:http://event.oak.go.kr/event/index.jsp
URL:http://event.oak.go.kr/event/index.jsp
CONTACT:
ORGANIZER:
ATTACH;FMTTYPE="image/jpeg":http://storage.ning.com/topology/rest/1.0/
 file/get/3057483581?profile=original
ATTENDEE;ROLE=REQ-PARTICIPANT;PARTSTAT=ACCEPTED;RSVP=TRUE;CN="BioMed C
 entral":http://legacy.openaccessweek.org/profile/biomedcentral
END:VEVENT
END:VCALENDAR
